BEGIN:VCALENDAR
VERSION:2.0
PRODID:-//http://snoburners.org///NONSGML kigkonsult.se iCalcreator 2.10.15//
METHOD:PUBLISH
BEGIN:VEVENT
UID:20260421T231013UTC-2830IZtAUt@http://snoburners.org/
DTSTAMP:20260421T231013Z
DESCRIPTION: {pdf=http://snoburners.org/images/stories/events/smugglers_not
 ch2026a.pdf|75%|750|google}   \n \n  http://snoburners.org/calendar/event/
 48-smugglers-notch
DTSTART:20260327T000000Z
DTEND:20260331T000100Z
LOCATION:Smugglers' Notch\, Vermont ()
SUMMARY:Smugglers' Notch
URL:http://snoburners.org/calendar/event/48-smugglers-notch
END:VEVENT
END:VCALENDAR
