BEGIN:VCALENDAR
VERSION:2.0
PRODID:-//https://snoburners.org///NONSGML kigkonsult.se iCalcreator 2.10.15//
METHOD:PUBLISH
BEGIN:VEVENT
UID:20260419T124854UTC-55800I1e77@https://snoburners.org/
DTSTAMP:20260419T124854Z
DESCRIPTION:  \n \nEarly Season Warm Up\n \nEuropean Edition 2025 \n \nVal 
 D'Isere\, France\n \n@ the Club Med Resort\n \nDecember 7 - December 14\, 
 2025\n \n* Passport is Required *\n  \n 2025 ESWU European Edition Registr
 ation\n \n  https://snoburners.org/calendar/event/11-eswu-2025-european-ed
 ition
DTSTART:20251207T000000Z
DTEND:20251214T000000Z
LOCATION:Val-d'Isère (Val-d'Isère\, France)
SUMMARY:ESWU 2025 - European Edition
URL:https://snoburners.org/calendar/event/11-eswu-2025-european-edition
END:VEVENT
BEGIN:VEVENT
UID:20260419T124854UTC-55821MxiEo@https://snoburners.org/
DTSTAMP:20260419T124854Z
DESCRIPTION:                                                      \n \n    
                EARLY SEASON SKI CLUB APPRECIATION SPECIAL\n \n{pdf=http://
 snoburners.org/images/stories/events/telluride_earlyseason2025.pdf|75%|750
 |google} \n \n \n \n \n \n \n \n \n \n \n \n  https://snoburners.org/calen
 dar/event/27-eswu-2025-telluride-co
DTSTART:20251201T000000Z
DTEND:20251220T000000Z
LOCATION:Telluride\, Colorado (Telluride\, CO 81435\, USA)
SUMMARY:ESWU 2025 - Telluride\, CO
URL:https://snoburners.org/calendar/event/27-eswu-2025-telluride-co
END:VEVENT
END:VCALENDAR
