BEGIN:VCALENDAR
VERSION:2.0
PRODID:-//https://snoburners.org///NONSGML kigkonsult.se iCalcreator 2.10.15//
METHOD:PUBLISH
BEGIN:VEVENT
UID:20260423T180202UTC-6166JaKBuN@https://snoburners.org/
DTSTAMP:20260423T180202Z
DESCRIPTION: {pdf=http://snoburners.org/images/stories/events/bday_2025.pdf
 |75%|650|google} \n  https://snoburners.org/calendar/event/20-afternoon-cr
 uise
DTSTART:20250621T120000Z
DTEND:20250621T153000Z
LOCATION:West Side Pier (W 125th St\, New York\, NY 10027\, USA)
SUMMARY:Afternoon Cruise
URL:https://snoburners.org/calendar/event/20-afternoon-cruise
END:VEVENT
END:VCALENDAR
