BEGIN:VCALENDAR
VERSION:2.0
PRODID:-//https://snoburners.org///NONSGML kigkonsult.se iCalcreator 2.10.15//
METHOD:PUBLISH
BEGIN:VEVENT
UID:20260423T145109UTC-1582WEXjBw@https://snoburners.org/
DTSTAMP:20260423T145109Z
DESCRIPTION: \nSOLD OUT \n \n  \n \nFun in the Sun\n \nPlanet Hollywood in 
 \n \nGuanacaste Province\, Costa Rica\n \n July 24 - July 29\, 2025 \n  \n
 Link to REGISTER \n   https://snoburners.org/calendar/event/31-sold-out-gu
 anacaste-costa-rica
DTSTART:20250724T000000Z
DTEND:20250729T000000Z
LOCATION:Guanacaste Province\, Costa Rica (Planet Hollywood\, Guanacaste Pr
 ovince\, Costa Rica)
SUMMARY:SOLD OUT: Guanacaste\, Costa Rica
URL:https://snoburners.org/calendar/event/31-sold-out-guanacaste-costa-rica
END:VEVENT
END:VCALENDAR
